Workbook

Sheet 1. Observations
A1: date_time | B1: site_id | C1: latitude | D1: longitude | E1: notes | F1: =IF(ISBLANK('2. Metadata'!B13)=TRUE()," ",'2. Metadata'!B13) -> water_temperature | G1: =IF(ISBLANK('2. Metadata'!B13)=TRUE()," ",'2. Metadata'!B13&"_units") -> water_temperature_units | H1: water_hub_qa_qc
A2: 43553.583 | B2: Cambridge_Creek | C2: =IF(ISBLANK(B2)=TRUE()," ", IF(B2='2. Metadata'!B$1,'2. Metadata'!B$5, IF(B2='2. Metadata'!C$1,'2. Metadata'!C$5,IF(B2='2. Metadata'!D$1,'2. Metadata'!D$5, IF(B2='2. Metadata'!E$1,'2. Metadata'!E$5,IF( B2='2. Metadata'!F$1,'2. Metadata'!F$5,IF(B2='2. Metadata'!G$1,'2. Metadata'!G$5,IF(B2='2. Metadata'!H$1,'2. Metadata'!H$5, IF(B2='2. Metadata'!I$1,'2. Metadata'!I$5, IF(B2='2. Metadata'!J$1,'2. Metadata'!J$5, IF(B2='2. Metadata'!K$1,'2. Metadata'!K$5, IF(B2='2. Metadata'!L$1,'2. Metadata'!L$5, IF(B2='2. Metadata'!M$1,'2. Metadata'!M$5, IF(B2='2. Metadata'!N$1,'2. Metadata'!N$5)))))))))))))) -> 49.083611 | D2: =IF(ISBLANK(B2)=TRUE()," ", IF(B2='2. Metadata'!B$1,'2. Metadata'!B$6, IF(B2='2. Metadata'!C$1,'2. Metadata'!C$6,IF(B2='2. Metadata'!D$1,'2. Metadata'!D$6, IF(B2='2. Metadata'!E$1,'2. Metadata'!E$6,IF( B2='2. Metadata'!F$1,'2. Metadata'!F$6,IF(B2='2. Metadata'!G$1,'2. Metadata'!G$6,IF(B2='2. Metadata'!H$1,'2. Metadata'!H$6, IF(B2='2. Metadata'!I$1,'2. Metadata'!I$6, IF(B2='2. Metadata'!J$1,'2. Metadata'!J$6, IF(B2='2. Metadata'!K$1,'2. Metadata'!K$6, IF(B2='2. Metadata'!L$1,'2. Metadata'!L$6, IF(B2='2. Metadata'!M$1,'2. Metadata'!M$6, IF(B2='2. Metadata'!N$1,'2. Metadata'!N$6)))))))))))))) -> -117.75583 | E2: N/A | F2: 3.3220069 | G2: =IF(ISBLANK(F2)=TRUE()," ",'2. Metadata'!B$14) -> degrees Celsius | H2: N/A
A3: 43553.917 | B3: Cambridge_Creek | C3: =IF(ISBLANK(B3)=TRUE()," ", IF(B3='2. Metadata'!B$1,'2. Metadata'!B$5, IF(B3='2. Metadata'!C$1,'2. Metadata'!C$5,IF(B3='2. Metadata'!D$1,'2. Metadata'!D$5, IF(B3='2. Metadata'!E$1,'2. Metadata'!E$5,IF( B3='2. Metadata'!F$1,'2. Metadata'!F$5,IF(B3='2. Metadata'!G$1,'2. Metadata'!G$5,IF(B3='2. Metadata'!H$1,'2. Metadata'!H$5, IF(B3='2. Metadata'!I$1,'2. Metadata'!I$5, IF(B3='2. Metadata'!J$1,'2. Metadata'!J$5, IF(B3='2. Metadata'!K$1,'2. Metadata'!K$5, IF(B3='2. Metadata'!L$1,'2. Metadata'!L$5, IF(B3='2. Metadata'!M$1,'2. Metadata'!M$5, IF(B3='2. Metadata'!N$1,'2. Metadata'!N$5)))))))))))))) -> 49.083611 | D3: =IF(ISBLANK(B3)=TRUE()," ", IF(B3='2. Metadata'!B$1,'2. Metadata'!B$6, IF(B3='2. Metadata'!C$1,'2. Metadata'!C$6,IF(B3='2. Metadata'!D$1,'2. Metadata'!D$6, IF(B3='2. Metadata'!E$1,'2. Metadata'!E$6,IF( B3='2. Metadata'!F$1,'2. Metadata'!F$6,IF(B3='2. Metadata'!G$1,'2. Metadata'!G$6,IF(B3='2. Metadata'!H$1,'2. Metadata'!H$6, IF(B3='2. Metadata'!I$1,'2. Metadata'!I$6, IF(B3='2. Metadata'!J$1,'2. Metadata'!J$6, IF(B3='2. Metadata'!K$1,'2. Metadata'!K$6, IF(B3='2. Metadata'!L$1,'2. Metadata'!L$6, IF(B3='2. Metadata'!M$1,'2. Metadata'!M$6, IF(B3='2. Metadata'!N$1,'2. Metadata'!N$6)))))))))))))) -> -117.75583 | E3: N/A | F3: 2.2280469 | G3: =IF(ISBLANK(F3)=TRUE()," ",'2. Metadata'!B$14) -> degrees Celsius | H3: N/A
A4: 43554.25 | B4: Cambridge_Creek | C4: =IF(ISBLANK(B4)=TRUE()," ", IF(B4='2. Metadata'!B$1,'2. Metadata'!B$5, IF(B4='2. Metadata'!C$1,'2. Metadata'!C$5,IF(B4='2. Metadata'!D$1,'2. Metadata'!D$5, IF(B4='2. Metadata'!E$1,'2. Metadata'!E$5,IF( B4='2. Metadata'!F$1,'2. Metadata'!F$5,IF(B4='2. Metadata'!G$1,'2. Metadata'!G$5,IF(B4='2. Metadata'!H$1,'2. Metadata'!H$5, IF(B4='2. Metadata'!I$1,'2. Metadata'!I$5, IF(B4='2. Metadata'!J$1,'2. Metadata'!J$5, IF(B4='2. Metadata'!K$1,'2. Metadata'!K$5, IF(B4='2. Metadata'!L$1,'2. Metadata'!L$5, IF(B4='2. Metadata'!M$1,'2. Metadata'!M$5, IF(B4='2. Metadata'!N$1,'2. Metadata'!N$5)))))))))))))) -> 49.083611 | D4: =IF(ISBLANK(B4)=TRUE()," ", IF(B4='2. Metadata'!B$1,'2. Metadata'!B$6, IF(B4='2. Metadata'!C$1,'2. Metadata'!C$6,IF(B4='2. Metadata'!D$1,'2. Metadata'!D$6, IF(B4='2. Metadata'!E$1,'2. Metadata'!E$6,IF( B4='2. Metadata'!F$1,'2. Metadata'!F$6,IF(B4='2. Metadata'!G$1,'2. Metadata'!G$6,IF(B4='2. Metadata'!H$1,'2. Metadata'!H$6, IF(B4='2. Metadata'!I$1,'2. Metadata'!I$6, IF(B4='2. Metadata'!J$1,'2. Metadata'!J$6, IF(B4='2. Metadata'!K$1,'2. Metadata'!K$6, IF(B4='2. Metadata'!L$1,'2. Metadata'!L$6, IF(B4='2. Metadata'!M$1,'2. Metadata'!M$6, IF(B4='2. Metadata'!N$1,'2. Metadata'!N$6)))))))))))))) -> -117.75583 | E4: N/A | F4: 1.638167 | G4: =IF(ISBLANK(F4)=TRUE()," ",'2. Metadata'!B$14) -> degrees Celsius | H4: N/A
A5: 43554.583 | B5: Cambridge_Creek | C5: =IF(ISBLANK(B5)=TRUE()," ", IF(B5='2. Metadata'!B$1,'2. Metadata'!B$5, IF(B5='2. Metadata'!C$1,'2. Metadata'!C$5,IF(B5='2. Metadata'!D$1,'2. Metadata'!D$5, IF(B5='2. Metadata'!E$1,'2. Metadata'!E$5,IF( B5='2. Metadata'!F$1,'2. Metadata'!F$5,IF(B5='2. Metadata'!G$1,'2. Metadata'!G$5,IF(B5='2. Metadata'!H$1,'2. Metadata'!H$5, IF(B5='2. Metadata'!I$1,'2. Metadata'!I$5, IF(B5='2. Metadata'!J$1,'2. Metadata'!J$5, IF(B5='2. Metadata'!K$1,'2. Metadata'!K$5, IF(B5='2. Metadata'!L$1,'2. Metadata'!L$5, IF(B5='2. Metadata'!M$1,'2. Metadata'!M$5, IF(B5='2. Metadata'!N$1,'2. Metadata'!N$5)))))))))))))) -> 49.083611 | D5: =IF(ISBLANK(B5)=TRUE()," ", IF(B5='2. Metadata'!B$1,'2. Metadata'!B$6, IF(B5='2. Metadata'!C$1,'2. Metadata'!C$6,IF(B5='2. Metadata'!D$1,'2. Metadata'!D$6, IF(B5='2. Metadata'!E$1,'2. Metadata'!E$6,IF( B5='2. Metadata'!F$1,'2. Metadata'!F$6,IF(B5='2. Metadata'!G$1,'2. Metadata'!G$6,IF(B5='2. Metadata'!H$1,'2. Metadata'!H$6, IF(B5='2. Metadata'!I$1,'2. Metadata'!I$6, IF(B5='2. Metadata'!J$1,'2. Metadata'!J$6, IF(B5='2. Metadata'!K$1,'2. Metadata'!K$6, IF(B5='2. Metadata'!L$1,'2. Metadata'!L$6, IF(B5='2. Metadata'!M$1,'2. Metadata'!M$6, IF(B5='2. Metadata'!N$1,'2. Metadata'!N$6)))))))))))))) -> -117.75583 | E5: N/A | F5: 3.354182 | G5: =IF(ISBLANK(F5)=TRUE()," ",'2. Metadata'!B$14) -> degrees Celsius | H5: N/A
A6: 43554.917 | B6: Cambridge_Creek | C6: =IF(ISBLANK(B6)=TRUE()," ", IF(B6='2. Metadata'!B$1,'2. Metadata'!B$5, IF(B6='2. Metadata'!C$1,'2. Metadata'!C$5,IF(B6='2. Metadata'!D$1,'2. Metadata'!D$5, IF(B6='2. Metadata'!E$1,'2. Metadata'!E$5,IF( B6='2. Metadata'!F$1,'2. Metadata'!F$5,IF(B6='2. Metadata'!G$1,'2. Metadata'!G$5,IF(B6='2. Metadata'!H$1,'2. Metadata'!H$5, IF(B6='2. Metadata'!I$1,'2. Metadata'!I$5, IF(B6='2. Metadata'!J$1,'2. Metadata'!J$5, IF(B6='2. Metadata'!K$1,'2. Metadata'!K$5, IF(B6='2. Metadata'!L$1,'2. Metadata'!L$5, IF(B6='2. Metadata'!M$1,'2. Metadata'!M$5, IF(B6='2. Metadata'!N$1,'2. Metadata'!N$5)))))))))))))) -> 49.083611 | D6: =IF(ISBLANK(B6)=TRUE()," ", IF(B6='2. Metadata'!B$1,'2. Metadata'!B$6, IF(B6='2. Metadata'!C$1,'2. Metadata'!C$6,IF(B6='2. Metadata'!D$1,'2. Metadata'!D$6, IF(B6='2. Metadata'!E$1,'2. Metadata'!E$6,IF( B6='2. Metadata'!F$1,'2. Metadata'!F$6,IF(B6='2. Metadata'!G$1,'2. Metadata'!G$6,IF(B6='2. Metadata'!H$1,'2. Metadata'!H$6, IF(B6='2. Metadata'!I$1,'2. Metadata'!I$6, IF(B6='2. Metadata'!J$1,'2. Metadata'!J$6, IF(B6='2. Metadata'!K$1,'2. Metadata'!K$6, IF(B6='2. Metadata'!L$1,'2. Metadata'!L$6, IF(B6='2. Metadata'!M$1,'2. Metadata'!M$6, IF(B6='2. Metadata'!N$1,'2. Metadata'!N$6)))))))))))))) -> -117.75583 | E6: N/A | F6: 2.463999 | G6: =IF(ISBLANK(F6)=TRUE()," ",'2. Metadata'!B$14) -> degrees Celsius | H6: N/A
A7: 43555.25 | B7: Cambridge_Creek | C7: =IF(ISBLANK(B7)=TRUE()," ", IF(B7='2. Metadata'!B$1,'2. Metadata'!B$5, IF(B7='2. Metadata'!C$1,'2. Metadata'!C$5,IF(B7='2. Metadata'!D$1,'2. Metadata'!D$5, IF(B7='2. Metadata'!E$1,'2. Metadata'!E$5,IF( B7='2. Metadata'!F$1,'2. Metadata'!F$5,IF(B7='2. Metadata'!G$1,'2. Metadata'!G$5,IF(B7='2. Metadata'!H$1,'2. Metadata'!H$5, IF(B7='2. Metadata'!I$1,'2. Metadata'!I$5, IF(B7='2. Metadata'!J$1,'2. Metadata'!J$5, IF(B7='2. Metadata'!K$1,'2. Metadata'!K$5, IF(B7='2. Metadata'!L$1,'2. Metadata'!L$5, IF(B7='2. Metadata'!M$1,'2. Metadata'!M$5, IF(B7='2. Metadata'!N$1,'2. Metadata'!N$5)))))))))))))) -> 49.083611 | D7: =IF(ISBLANK(B7)=TRUE()," ", IF(B7='2. Metadata'!B$1,'2. Metadata'!B$6, IF(B7='2. Metadata'!C$1,'2. Metadata'!C$6,IF(B7='2. Metadata'!D$1,'2. Metadata'!D$6, IF(B7='2. Metadata'!E$1,'2. Metadata'!E$6,IF( B7='2. Metadata'!F$1,'2. Metadata'!F$6,IF(B7='2. Metadata'!G$1,'2. Metadata'!G$6,IF(B7='2. Metadata'!H$1,'2. Metadata'!H$6, IF(B7='2. Metadata'!I$1,'2. Metadata'!I$6, IF(B7='2. Metadata'!J$1,'2. Metadata'!J$6, IF(B7='2. Metadata'!K$1,'2. Metadata'!K$6, IF(B7='2. Metadata'!L$1,'2. Metadata'!L$6, IF(B7='2. Metadata'!M$1,'2. Metadata'!M$6, IF(B7='2. Metadata'!N$1,'2. Metadata'!N$6)))))))))))))) -> -117.75583 | E7: N/A | F7: 2.313848 | G7: =IF(ISBLANK(F7)=TRUE()," ",'2. Metadata'!B$14) -> degrees Celsius | H7: N/A
A8: 43555.583 | B8: Cambridge_Creek | C8: =IF(ISBLANK(B8)=TRUE()," ", IF(B8='2. Metadata'!B$1,'2. Metadata'!B$5, IF(B8='2. Metadata'!C$1,'2. Metadata'!C$5,IF(B8='2. Metadata'!D$1,'2. Metadata'!D$5, IF(B8='2. Metadata'!E$1,'2. Metadata'!E$5,IF( B8='2. Metadata'!F$1,'2. Metadata'!F$5,IF(B8='2. Metadata'!G$1,'2. Metadata'!G$5,IF(B8='2. Metadata'!H$1,'2. Metadata'!H$5, IF(B8='2. Metadata'!I$1,'2. Metadata'!I$5, IF(B8='2. Metadata'!J$1,'2. Metadata'!J$5, IF(B8='2. Metadata'!K$1,'2. Metadata'!K$5, IF(B8='2. Metadata'!L$1,'2. Metadata'!L$5, IF(B8='2. Metadata'!M$1,'2. Metadata'!M$5, IF(B8='2. Metadata'!N$1,'2. Metadata'!N$5)))))))))))))) -> 49.083611 | D8: =IF(ISBLANK(B8)=TRUE()," ", IF(B8='2. Metadata'!B$1,'2. Metadata'!B$6, IF(B8='2. Metadata'!C$1,'2. Metadata'!C$6,IF(B8='2. Metadata'!D$1,'2. Metadata'!D$6, IF(B8='2. Metadata'!E$1,'2. Metadata'!E$6,IF( B8='2. Metadata'!F$1,'2. Metadata'!F$6,IF(B8='2. Metadata'!G$1,'2. Metadata'!G$6,IF(B8='2. Metadata'!H$1,'2. Metadata'!H$6, IF(B8='2. Metadata'!I$1,'2. Metadata'!I$6, IF(B8='2. Metadata'!J$1,'2. Metadata'!J$6, IF(B8='2. Metadata'!K$1,'2. Metadata'!K$6, IF(B8='2. Metadata'!L$1,'2. Metadata'!L$6, IF(B8='2. Metadata'!M$1,'2. Metadata'!M$6, IF(B8='2. Metadata'!N$1,'2. Metadata'!N$6)))))))))))))) -> -117.75583 | E8: N/A | F8: 3.5794089 | G8: =IF(ISBLANK(F8)=TRUE()," ",'2. Metadata'!B$14) -> degrees Celsius | H8: N/A
A9: 43555.917 | B9: Cambridge_Creek | C9: =IF(ISBLANK(B9)=TRUE()," ", IF(B9='2. Metadata'!B$1,'2. Metadata'!B$5, IF(B9='2. Metadata'!C$1,'2. Metadata'!C$5,IF(B9='2. Metadata'!D$1,'2. Metadata'!D$5, IF(B9='2. Metadata'!E$1,'2. Metadata'!E$5,IF( B9='2. Metadata'!F$1,'2. Metadata'!F$5,IF(B9='2. Metadata'!G$1,'2. Metadata'!G$5,IF(B9='2. Metadata'!H$1,'2. Metadata'!H$5, IF(B9='2. Metadata'!I$1,'2. Metadata'!I$5, IF(B9='2. Metadata'!J$1,'2. Metadata'!J$5, IF(B9='2. Metadata'!K$1,'2. Metadata'!K$5, IF(B9='2. Metadata'!L$1,'2. Metadata'!L$5, IF(B9='2. Metadata'!M$1,'2. Metadata'!M$5, IF(B9='2. Metadata'!N$1,'2. Metadata'!N$5)))))))))))))) -> 49.083611 | D9: =IF(ISBLANK(B9)=TRUE()," ", IF(B9='2. Metadata'!B$1,'2. Metadata'!B$6, IF(B9='2. Metadata'!C$1,'2. Metadata'!C$6,IF(B9='2. Metadata'!D$1,'2. Metadata'!D$6, IF(B9='2. Metadata'!E$1,'2. Metadata'!E$6,IF( B9='2. Metadata'!F$1,'2. Metadata'!F$6,IF(B9='2. Metadata'!G$1,'2. Metadata'!G$6,IF(B9='2. Metadata'!H$1,'2. Metadata'!H$6, IF(B9='2. Metadata'!I$1,'2. Metadata'!I$6, IF(B9='2. Metadata'!J$1,'2. Metadata'!J$6, IF(B9='2. Metadata'!K$1,'2. Metadata'!K$6, IF(B9='2. Metadata'!L$1,'2. Metadata'!L$6, IF(B9='2. Metadata'!M$1,'2. Metadata'!M$6, IF(B9='2. Metadata'!N$1,'2. Metadata'!N$6)))))))))))))) -> -117.75583 | E9: N/A | F9: 2.3567481 | G9: =IF(ISBLANK(F9)=TRUE()," ",'2. Metadata'!B$14) -> degrees Celsius | H9: N/A
A10: 43556.25 | B10: Cambridge_Creek | C10: =IF(ISBLANK(B10)=TRUE()," ", IF(B10='2. Metadata'!B$1,'2. Metadata'!B$5, IF(B10='2. Metadata'!C$1,'2. Metadata'!C$5,IF(B10='2. Metadata'!D$1,'2. Metadata'!D$5, IF(B10='2. Metadata'!E$1,'2. Metadata'!E$5,IF( B10='2. Metadata'!F$1,'2. Metadata'!F$5,IF(B10='2. Metadata'!G$1,'2. Metadata'!G$5,IF(B10='2. Metadata'!H$1,'2. Metadata'!H$5, IF(B10='2. Metadata'!I$1,'2. Metadata'!I$5, IF(B10='2. Metadata'!J$1,'2. Metadata'!J$5, IF(B10='2. Metadata'!K$1,'2. Metadata'!K$5, IF(B10='2. Metadata'!L$1,'2. Metadata'!L$5, IF(B10='2. Metadata'!M$1,'2. Metadata'!M$5, IF(B10='2. Metadata'!N$1,'2. Metadata'!N$5)))))))))))))) -> 49.083611 | D10: =IF(ISBLANK(B10)=TRUE()," ", IF(B10='2. Metadata'!B$1,'2. Metadata'!B$6, IF(B10='2. Metadata'!C$1,'2. Metadata'!C$6,IF(B10='2. Metadata'!D$1,'2. Metadata'!D$6, IF(B10='2. Metadata'!E$1,'2. Metadata'!E$6,IF( B10='2. Metadata'!F$1,'2. Metadata'!F$6,IF(B10='2. Metadata'!G$1,'2. Metadata'!G$6,IF(B10='2. Metadata'!H$1,'2. Metadata'!H$6, IF(B10='2. Metadata'!I$1,'2. Metadata'!I$6, IF(B10='2. Metadata'!J$1,'2. Metadata'!J$6, IF(B10='2. Metadata'!K$1,'2. Metadata'!K$6, IF(B10='2. Metadata'!L$1,'2. Metadata'!L$6, IF(B10='2. Metadata'!M$1,'2. Metadata'!M$6, IF(B10='2. Metadata'!N$1,'2. Metadata'!N$6)))))))))))))) -> -117.75583 | E10: N/A | F10: 1.992095 | G10: =IF(ISBLANK(F10)=TRUE()," ",'2. Metadata'!B$14) -> degrees Celsius | H10: N/A
A11: 43556.583 | B11: Cambridge_Creek | C11: =IF(ISBLANK(B11)=TRUE()," ", IF(B11='2. Metadata'!B$1,'2. Metadata'!B$5, IF(B11='2. Metadata'!C$1,'2. Metadata'!C$5,IF(B11='2. Metadata'!D$1,'2. Metadata'!D$5, IF(B11='2. Metadata'!E$1,'2. Metadata'!E$5,IF( B11='2. Metadata'!F$1,'2. Metadata'!F$5,IF(B11='2. Metadata'!G$1,'2. Metadata'!G$5,IF(B11='2. Metadata'!H$1,'2. Metadata'!H$5, IF(B11='2. Metadata'!I$1,'2. Metadata'!I$5, IF(B11='2. Metadata'!J$1,'2. Metadata'!J$5, IF(B11='2. Metadata'!K$1,'2. Metadata'!K$5, IF(B11='2. Metadata'!L$1,'2. Metadata'!L$5, IF(B11='2. Metadata'!M$1,'2. Metadata'!M$5, IF(B11='2. Metadata'!N$1,'2. Metadata'!N$5)))))))))))))) -> 49.083611 | D11: =IF(ISBLANK(B11)=TRUE()," ", IF(B11='2. Metadata'!B$1,'2. Metadata'!B$6, IF(B11='2. Metadata'!C$1,'2. Metadata'!C$6,IF(B11='2. Metadata'!D$1,'2. Metadata'!D$6, IF(B11='2. Metadata'!E$1,'2. Metadata'!E$6,IF( B11='2. Metadata'!F$1,'2. Metadata'!F$6,IF(B11='2. Metadata'!G$1,'2. Metadata'!G$6,IF(B11='2. Metadata'!H$1,'2. Metadata'!H$6, IF(B11='2. Metadata'!I$1,'2. Metadata'!I$6, IF(B11='2. Metadata'!J$1,'2. Metadata'!J$6, IF(B11='2. Metadata'!K$1,'2. Metadata'!K$6, IF(B11='2. Metadata'!L$1,'2. Metadata'!L$6, IF(B11='2. Metadata'!M$1,'2. Metadata'!M$6, IF(B11='2. Metadata'!N$1,'2. Metadata'!N$6)))))))))))))) -> -117.75583 | E11: N/A | F11: 3.675935 | G11: =IF(ISBLANK(F11)=TRUE()," ",'2. Metadata'!B$14) -> degrees Celsius | H11: N/A
A12: 43556.917 | B12: Cambridge_Creek | C12: =IF(ISBLANK(B12)=TRUE()," ", IF(B12='2. Metadata'!B$1,'2. Metadata'!B$5, IF(B12='2. Metadata'!C$1,'2. Metadata'!C$5,IF(B12='2. Metadata'!D$1,'2. Metadata'!D$5, IF(B12='2. Metadata'!E$1,'2. Metadata'!E$5,IF( B12='2. Metadata'!F$1,'2. Metadata'!F$5,IF(B12='2. Metadata'!G$1,'2. Metadata'!G$5,IF(B12='2. Metadata'!H$1,'2. Metadata'!H$5, IF(B12='2. Metadata'!I$1,'2. Metadata'!I$5, IF(B12='2. Metadata'!J$1,'2. Metadata'!J$5, IF(B12='2. Metadata'!K$1,'2. Metadata'!K$5, IF(B12='2. Metadata'!L$1,'2. Metadata'!L$5, IF(B12='2. Metadata'!M$1,'2. Metadata'!M$5, IF(B12='2. Metadata'!N$1,'2. Metadata'!N$5)))))))))))))) -> 49.083611 | D12: =IF(ISBLANK(B12)=TRUE()," ", IF(B12='2. Metadata'!B$1,'2. Metadata'!B$6, IF(B12='2. Metadata'!C$1,'2. Metadata'!C$6,IF(B12='2. Metadata'!D$1,'2. Metadata'!D$6, IF(B12='2. Metadata'!E$1,'2. Metadata'!E$6,IF( B12='2. Metadata'!F$1,'2. Metadata'!F$6,IF(B12='2. Metadata'!G$1,'2. Metadata'!G$6,IF(B12='2. Metadata'!H$1,'2. Metadata'!H$6, IF(B12='2. Metadata'!I$1,'2. Metadata'!I$6, IF(B12='2. Metadata'!J$1,'2. Metadata'!J$6, IF(B12='2. Metadata'!K$1,'2. Metadata'!K$6, IF(B12='2. Metadata'!L$1,'2. Metadata'!L$6, IF(B12='2. Metadata'!M$1,'2. Metadata'!M$6, IF(B12='2. Metadata'!N$1,'2. Metadata'!N$6)))))))))))))) -> -117.75583 | E12: N/A | F12: 2.4961741 | G12: =IF(ISBLANK(F12)=TRUE()," ",'2. Metadata'!B$14) -> degrees Celsius | H12: N/A
A13: 43557.25 | B13: Cambridge_Creek | C13: =IF(ISBLANK(B13)=TRUE()," ", IF(B13='2. Metadata'!B$1,'2. Metadata'!B$5, IF(B13='2. Metadata'!C$1,'2. Metadata'!C$5,IF(B13='2. Metadata'!D$1,'2. Metadata'!D$5, IF(B13='2. Metadata'!E$1,'2. Metadata'!E$5,IF( B13='2. Metadata'!F$1,'2. Metadata'!F$5,IF(B13='2. Metadata'!G$1,'2. Metadata'!G$5,IF(B13='2. Metadata'!H$1,'2. Metadata'!H$5, IF(B13='2. Metadata'!I$1,'2. Metadata'!I$5, IF(B13='2. Metadata'!J$1,'2. Metadata'!J$5, IF(B13='2. Metadata'!K$1,'2. Metadata'!K$5, IF(B13='2. Metadata'!L$1,'2. Metadata'!L$5, IF(B13='2. Metadata'!M$1,'2. Metadata'!M$5, IF(B13='2. Metadata'!N$1,'2. Metadata'!N$5)))))))))))))) -> 49.083611 | D13: =IF(ISBLANK(B13)=TRUE()," ", IF(B13='2. Metadata'!B$1,'2. Metadata'!B$6, IF(B13='2. Metadata'!C$1,'2. Metadata'!C$6,IF(B13='2. Metadata'!D$1,'2. Metadata'!D$6, IF(B13='2. Metadata'!E$1,'2. Metadata'!E$6,IF( B13='2. Metadata'!F$1,'2. Metadata'!F$6,IF(B13='2. Metadata'!G$1,'2. Metadata'!G$6,IF(B13='2. Metadata'!H$1,'2. Metadata'!H$6, IF(B13='2. Metadata'!I$1,'2. Metadata'!I$6, IF(B13='2. Metadata'!J$1,'2. Metadata'!J$6, IF(B13='2. Metadata'!K$1,'2. Metadata'!K$6, IF(B13='2. Metadata'!L$1,'2. Metadata'!L$6, IF(B13='2. Metadata'!M$1,'2. Metadata'!M$6, IF(B13='2. Metadata'!N$1,'2. Metadata'!N$6)))))))))))))) -> -117.75583 | E13: N/A | F13: 1.927744 | G13: =IF(ISBLANK(F13)=TRUE()," ",'2. Metadata'!B$14) -> degrees Celsius | H13: N/A
... A1123: 44028.5 | B1123: Cambridge_Creek | C1123: =IF(ISBLANK(B1123)=TRUE()," ", IF(B1123='2. Metadata'!B$1,'2. Metadata'!B$5, IF(B1123='2. Metadata'!C$1,'2. Metadata'!C$5,IF(B1123='2. Metadata'!D$1,'2. Metadata'!D$5, IF(B1123='2. Metadata'!E$1,'2. Metadata'!E$5,IF( B1123='2. Metadata'!F$1,'2. Metadata'!F$5,IF(B1123='2. Metadata'!G$1,'2. Metadata'!G$5,IF(B1123='2. Metadata'!H$1,'2. Metadata'!H$5, IF(B1123='2. Metadata'!I$1,'2. Metadata'!I$5, IF(B1123='2. Metadata'!J$1,'2. Metadata'!J$5, IF(B1123='2. Metadata'!K$1,'2. Metadata'!K$5, IF(B1123='2. Metadata'!L$1,'2. Metadata'!L$5, IF(B1123='2. Metadata'!M$1,'2. Metadata'!M$5, IF(B1123='2. Metadata'!N$1,'2. Metadata'!N$5)))))))))))))) -> 49.083611 | D1123: =IF(ISBLANK(B1123)=TRUE()," ", IF(B1123='2. Metadata'!B$1,'2. Metadata'!B$6, IF(B1123='2. Metadata'!C$1,'2. Metadata'!C$6,IF(B1123='2. Metadata'!D$1,'2. Metadata'!D$6, IF(B1123='2. Metadata'!E$1,'2. Metadata'!E$6,IF( B1123='2. Metadata'!F$1,'2. Metadata'!F$6,IF(B1123='2. Metadata'!G$1,'2. Metadata'!G$6,IF(B1123='2. Metadata'!H$1,'2. Metadata'!H$6, IF(B1123='2. Metadata'!I$1,'2. Metadata'!I$6, IF(B1123='2. Metadata'!J$1,'2. Metadata'!J$6, IF(B1123='2. Metadata'!K$1,'2. Metadata'!K$6, IF(B1123='2. Metadata'!L$1,'2. Metadata'!L$6, IF(B1123='2. Metadata'!M$1,'2. Metadata'!M$6, IF(B1123='2. Metadata'!N$1,'2. Metadata'!N$6)))))))))))))) -> -117.75583 | E1123: N/A | F1123: 17.747263 | G1123: =IF(ISBLANK(F1123)=TRUE()," ",'2. Metadata'!B$14) -> degrees Celsius | H1123: N/A
A1124: 44029.042 | B1124: Cambridge_Creek | C1124: =IF(ISBLANK(B1124)=TRUE()," ", IF(B1124='2. Metadata'!B$1,'2. Metadata'!B$5, IF(B1124='2. Metadata'!C$1,'2. Metadata'!C$5,IF(B1124='2. Metadata'!D$1,'2. Metadata'!D$5, IF(B1124='2. Metadata'!E$1,'2. Metadata'!E$5,IF( B1124='2. Metadata'!F$1,'2. Metadata'!F$5,IF(B1124='2. Metadata'!G$1,'2. Metadata'!G$5,IF(B1124='2. Metadata'!H$1,'2. Metadata'!H$5, IF(B1124='2. Metadata'!I$1,'2. Metadata'!I$5, IF(B1124='2. Metadata'!J$1,'2. Metadata'!J$5, IF(B1124='2. Metadata'!K$1,'2. Metadata'!K$5, IF(B1124='2. Metadata'!L$1,'2. Metadata'!L$5, IF(B1124='2. Metadata'!M$1,'2. Metadata'!M$5, IF(B1124='2. Metadata'!N$1,'2. Metadata'!N$5)))))))))))))) -> 49.083611 | D1124: =IF(ISBLANK(B1124)=TRUE()," ", IF(B1124='2. Metadata'!B$1,'2. Metadata'!B$6, IF(B1124='2. Metadata'!C$1,'2. Metadata'!C$6,IF(B1124='2. Metadata'!D$1,'2. Metadata'!D$6, IF(B1124='2. Metadata'!E$1,'2. Metadata'!E$6,IF( B1124='2. Metadata'!F$1,'2. Metadata'!F$6,IF(B1124='2. Metadata'!G$1,'2. Metadata'!G$6,IF(B1124='2. Metadata'!H$1,'2. Metadata'!H$6, IF(B1124='2. Metadata'!I$1,'2. Metadata'!I$6, IF(B1124='2. Metadata'!J$1,'2. Metadata'!J$6, IF(B1124='2. Metadata'!K$1,'2. Metadata'!K$6, IF(B1124='2. Metadata'!L$1,'2. Metadata'!L$6, IF(B1124='2. Metadata'!M$1,'2. Metadata'!M$6, IF(B1124='2. Metadata'!N$1,'2. Metadata'!N$6)))))))))))))) -> -117.75583 | E1124: logger removed until 18 August 2020 | F1124: N/A | G1124: =IF(ISBLANK(F1124)=TRUE()," ",'2. Metadata'!B$14) -> degrees Celsius | H1124: N/A
A1125: 44029.542 | B1125: Cambridge_Creek | C1125: =IF(ISBLANK(B1125)=TRUE()," ", IF(B1125='2. Metadata'!B$1,'2. Metadata'!B$5, IF(B1125='2. Metadata'!C$1,'2. Metadata'!C$5,IF(B1125='2. Metadata'!D$1,'2. Metadata'!D$5, IF(B1125='2. Metadata'!E$1,'2. Metadata'!E$5,IF( B1125='2. Metadata'!F$1,'2. Metadata'!F$5,IF(B1125='2. Metadata'!G$1,'2. Metadata'!G$5,IF(B1125='2. Metadata'!H$1,'2. Metadata'!H$5, IF(B1125='2. Metadata'!I$1,'2. Metadata'!I$5, IF(B1125='2. Metadata'!J$1,'2. Metadata'!J$5, IF(B1125='2. Metadata'!K$1,'2. Metadata'!K$5, IF(B1125='2. Metadata'!L$1,'2. Metadata'!L$5, IF(B1125='2. Metadata'!M$1,'2. Metadata'!M$5, IF(B1125='2. Metadata'!N$1,'2. Metadata'!N$5)))))))))))))) -> 49.083611 | D1125: =IF(ISBLANK(B1125)=TRUE()," ", IF(B1125='2. Metadata'!B$1,'2. Metadata'!B$6, IF(B1125='2. Metadata'!C$1,'2. Metadata'!C$6,IF(B1125='2. Metadata'!D$1,'2. Metadata'!D$6, IF(B1125='2. Metadata'!E$1,'2. Metadata'!E$6,IF( B1125='2. Metadata'!F$1,'2. Metadata'!F$6,IF(B1125='2. Metadata'!G$1,'2. Metadata'!G$6,IF(B1125='2. Metadata'!H$1,'2. Metadata'!H$6, IF(B1125='2. Metadata'!I$1,'2. Metadata'!I$6, IF(B1125='2. Metadata'!J$1,'2. Metadata'!J$6, IF(B1125='2. Metadata'!K$1,'2. Metadata'!K$6, IF(B1125='2. Metadata'!L$1,'2. Metadata'!L$6, IF(B1125='2. Metadata'!M$1,'2. Metadata'!M$6, IF(B1125='2. Metadata'!N$1,'2. Metadata'!N$6)))))))))))))) -> -117.75583 | E1125: N/A | F1125: N/A | G1125: =IF(ISBLANK(F1125)=TRUE()," ",'2. Metadata'!B$14) -> degrees Celsius | H1125: N/A
A1126: 44030.042 | B1126: Cambridge_Creek | C1126: =IF(ISBLANK(B1126)=TRUE()," ", IF(B1126='2. Metadata'!B$1,'2. Metadata'!B$5, IF(B1126='2. Metadata'!C$1,'2. Metadata'!C$5,IF(B1126='2. Metadata'!D$1,'2. Metadata'!D$5, IF(B1126='2. Metadata'!E$1,'2. Metadata'!E$5,IF( B1126='2. Metadata'!F$1,'2. Metadata'!F$5,IF(B1126='2. Metadata'!G$1,'2. Metadata'!G$5,IF(B1126='2. Metadata'!H$1,'2. Metadata'!H$5, IF(B1126='2. Metadata'!I$1,'2. Metadata'!I$5, IF(B1126='2. Metadata'!J$1,'2. Metadata'!J$5, IF(B1126='2. Metadata'!K$1,'2. Metadata'!K$5, IF(B1126='2. Metadata'!L$1,'2. Metadata'!L$5, IF(B1126='2. Metadata'!M$1,'2. Metadata'!M$5, IF(B1126='2. Metadata'!N$1,'2. Metadata'!N$5)))))))))))))) -> 49.083611 | D1126: =IF(ISBLANK(B1126)=TRUE()," ", IF(B1126='2. Metadata'!B$1,'2. Metadata'!B$6, IF(B1126='2. Metadata'!C$1,'2. Metadata'!C$6,IF(B1126='2. Metadata'!D$1,'2. Metadata'!D$6, IF(B1126='2. Metadata'!E$1,'2. Metadata'!E$6,IF( B1126='2. Metadata'!F$1,'2. Metadata'!F$6,IF(B1126='2. Metadata'!G$1,'2. Metadata'!G$6,IF(B1126='2. Metadata'!H$1,'2. Metadata'!H$6, IF(B1126='2. Metadata'!I$1,'2. Metadata'!I$6, IF(B1126='2. Metadata'!J$1,'2. Metadata'!J$6, IF(B1126='2. Metadata'!K$1,'2. Metadata'!K$6, IF(B1126='2. Metadata'!L$1,'2. Metadata'!L$6, IF(B1126='2. Metadata'!M$1,'2. Metadata'!M$6, IF(B1126='2. Metadata'!N$1,'2. Metadata'!N$6)))))))))))))) -> -117.75583 | E1126: N/A | F1126: N/A | G1126: =IF(ISBLANK(F1126)=TRUE()," ",'2. Metadata'!B$14) -> degrees Celsius | H1126: N/A
A1127: 44030.542 | B1127: Cambridge_Creek | C1127: =IF(ISBLANK(B1127)=TRUE()," ", IF(B1127='2. Metadata'!B$1,'2. Metadata'!B$5, IF(B1127='2. Metadata'!C$1,'2. Metadata'!C$5,IF(B1127='2. Metadata'!D$1,'2. Metadata'!D$5, IF(B1127='2. Metadata'!E$1,'2. Metadata'!E$5,IF( B1127='2. Metadata'!F$1,'2. Metadata'!F$5,IF(B1127='2. Metadata'!G$1,'2. Metadata'!G$5,IF(B1127='2. Metadata'!H$1,'2. Metadata'!H$5, IF(B1127='2. Metadata'!I$1,'2. Metadata'!I$5, IF(B1127='2. Metadata'!J$1,'2. Metadata'!J$5, IF(B1127='2. Metadata'!K$1,'2. Metadata'!K$5, IF(B1127='2. Metadata'!L$1,'2. Metadata'!L$5, IF(B1127='2. Metadata'!M$1,'2. Metadata'!M$5, IF(B1127='2. Metadata'!N$1,'2. Metadata'!N$5)))))))))))))) -> 49.083611 | D1127: =IF(ISBLANK(B1127)=TRUE()," ", IF(B1127='2. Metadata'!B$1,'2. Metadata'!B$6, IF(B1127='2. Metadata'!C$1,'2. Metadata'!C$6,IF(B1127='2. Metadata'!D$1,'2. Metadata'!D$6, IF(B1127='2. Metadata'!E$1,'2. Metadata'!E$6,IF( B1127='2. Metadata'!F$1,'2. Metadata'!F$6,IF(B1127='2. Metadata'!G$1,'2. Metadata'!G$6,IF(B1127='2. Metadata'!H$1,'2. Metadata'!H$6, IF(B1127='2. Metadata'!I$1,'2. Metadata'!I$6, IF(B1127='2. Metadata'!J$1,'2. Metadata'!J$6, IF(B1127='2. Metadata'!K$1,'2. Metadata'!K$6, IF(B1127='2. Metadata'!L$1,'2. Metadata'!L$6, IF(B1127='2. Metadata'!M$1,'2. Metadata'!M$6, IF(B1127='2. Metadata'!N$1,'2. Metadata'!N$6)))))))))))))) -> -117.75583 | E1127: N/A | F1127: N/A | G1127: =IF(ISBLANK(F1127)=TRUE()," ",'2. Metadata'!B$14) -> degrees Celsius | H1127: N/A
A1128: 44031.042 | B1128: Cambridge_Creek | C1128: =IF(ISBLANK(B1128)=TRUE()," ", IF(B1128='2. Metadata'!B$1,'2. Metadata'!B$5, IF(B1128='2. Metadata'!C$1,'2. Metadata'!C$5,IF(B1128='2. Metadata'!D$1,'2. Metadata'!D$5, IF(B1128='2. Metadata'!E$1,'2. Metadata'!E$5,IF( B1128='2. Metadata'!F$1,'2. Metadata'!F$5,IF(B1128='2. Metadata'!G$1,'2. Metadata'!G$5,IF(B1128='2. Metadata'!H$1,'2. Metadata'!H$5, IF(B1128='2. Metadata'!I$1,'2. Metadata'!I$5, IF(B1128='2. Metadata'!J$1,'2. Metadata'!J$5, IF(B1128='2. Metadata'!K$1,'2. Metadata'!K$5, IF(B1128='2. Metadata'!L$1,'2. Metadata'!L$5, IF(B1128='2. Metadata'!M$1,'2. Metadata'!M$5, IF(B1128='2. Metadata'!N$1,'2. Metadata'!N$5)))))))))))))) -> 49.083611 | D1128: =IF(ISBLANK(B1128)=TRUE()," ", IF(B1128='2. Metadata'!B$1,'2. Metadata'!B$6, IF(B1128='2. Metadata'!C$1,'2. Metadata'!C$6,IF(B1128='2. Metadata'!D$1,'2. Metadata'!D$6, IF(B1128='2. Metadata'!E$1,'2. Metadata'!E$6,IF( B1128='2. Metadata'!F$1,'2. Metadata'!F$6,IF(B1128='2. Metadata'!G$1,'2. Metadata'!G$6,IF(B1128='2. Metadata'!H$1,'2. Metadata'!H$6, IF(B1128='2. Metadata'!I$1,'2. Metadata'!I$6, IF(B1128='2. Metadata'!J$1,'2. Metadata'!J$6, IF(B1128='2. Metadata'!K$1,'2. Metadata'!K$6, IF(B1128='2. Metadata'!L$1,'2. Metadata'!L$6, IF(B1128='2. Metadata'!M$1,'2. Metadata'!M$6, IF(B1128='2. Metadata'!N$1,'2. Metadata'!N$6)))))))))))))) -> -117.75583 | E1128: N/A | F1128: N/A | G1128: =IF(ISBLANK(F1128)=TRUE()," ",'2. Metadata'!B$14) -> degrees Celsius | H1128: N/A
A1129: 44031.542 | B1129: Cambridge_Creek | C1129: =IF(ISBLANK(B1129)=TRUE()," ", IF(B1129='2. Metadata'!B$1,'2. Metadata'!B$5, IF(B1129='2. Metadata'!C$1,'2. Metadata'!C$5,IF(B1129='2. Metadata'!D$1,'2. Metadata'!D$5, IF(B1129='2. Metadata'!E$1,'2. Metadata'!E$5,IF( B1129='2. Metadata'!F$1,'2. Metadata'!F$5,IF(B1129='2. Metadata'!G$1,'2. Metadata'!G$5,IF(B1129='2. Metadata'!H$1,'2. Metadata'!H$5, IF(B1129='2. Metadata'!I$1,'2. Metadata'!I$5, IF(B1129='2. Metadata'!J$1,'2. Metadata'!J$5, IF(B1129='2. Metadata'!K$1,'2. Metadata'!K$5, IF(B1129='2. Metadata'!L$1,'2. Metadata'!L$5, IF(B1129='2. Metadata'!M$1,'2. Metadata'!M$5, IF(B1129='2. Metadata'!N$1,'2. Metadata'!N$5)))))))))))))) -> 49.083611 | D1129: =IF(ISBLANK(B1129)=TRUE()," ", IF(B1129='2. Metadata'!B$1,'2. Metadata'!B$6, IF(B1129='2. Metadata'!C$1,'2. Metadata'!C$6,IF(B1129='2. Metadata'!D$1,'2. Metadata'!D$6, IF(B1129='2. Metadata'!E$1,'2. Metadata'!E$6,IF( B1129='2. Metadata'!F$1,'2. Metadata'!F$6,IF(B1129='2. Metadata'!G$1,'2. Metadata'!G$6,IF(B1129='2. Metadata'!H$1,'2. Metadata'!H$6, IF(B1129='2. Metadata'!I$1,'2. Metadata'!I$6, IF(B1129='2. Metadata'!J$1,'2. Metadata'!J$6, IF(B1129='2. Metadata'!K$1,'2. Metadata'!K$6, IF(B1129='2. Metadata'!L$1,'2. Metadata'!L$6, IF(B1129='2. Metadata'!M$1,'2. Metadata'!M$6, IF(B1129='2. Metadata'!N$1,'2. Metadata'!N$6)))))))))))))) -> -117.75583 | E1129: N/A | F1129: N/A | G1129: =IF(ISBLANK(F1129)=TRUE()," ",'2. Metadata'!B$14) -> degrees Celsius | H1129: N/A
A1130: 44032.042 | B1130: Cambridge_Creek | C1130: =IF(ISBLANK(B1130)=TRUE()," ", IF(B1130='2. Metadata'!B$1,'2. Metadata'!B$5, IF(B1130='2. Metadata'!C$1,'2. Metadata'!C$5,IF(B1130='2. Metadata'!D$1,'2. Metadata'!D$5, IF(B1130='2. Metadata'!E$1,'2. Metadata'!E$5,IF( B1130='2. Metadata'!F$1,'2. Metadata'!F$5,IF(B1130='2. Metadata'!G$1,'2. Metadata'!G$5,IF(B1130='2. Metadata'!H$1,'2. Metadata'!H$5, IF(B1130='2. Metadata'!I$1,'2. Metadata'!I$5, IF(B1130='2. Metadata'!J$1,'2. Metadata'!J$5, IF(B1130='2. Metadata'!K$1,'2. Metadata'!K$5, IF(B1130='2. Metadata'!L$1,'2. Metadata'!L$5, IF(B1130='2. Metadata'!M$1,'2. Metadata'!M$5, IF(B1130='2. Metadata'!N$1,'2. Metadata'!N$5)))))))))))))) -> 49.083611 | D1130: =IF(ISBLANK(B1130)=TRUE()," ", IF(B1130='2. Metadata'!B$1,'2. Metadata'!B$6, IF(B1130='2. Metadata'!C$1,'2. Metadata'!C$6,IF(B1130='2. Metadata'!D$1,'2. Metadata'!D$6, IF(B1130='2. Metadata'!E$1,'2. Metadata'!E$6,IF( B1130='2. Metadata'!F$1,'2. Metadata'!F$6,IF(B1130='2. Metadata'!G$1,'2. Metadata'!G$6,IF(B1130='2. Metadata'!H$1,'2. Metadata'!H$6, IF(B1130='2. Metadata'!I$1,'2. Metadata'!I$6, IF(B1130='2. Metadata'!J$1,'2. Metadata'!J$6, IF(B1130='2. Metadata'!K$1,'2. Metadata'!K$6, IF(B1130='2. Metadata'!L$1,'2. Metadata'!L$6, IF(B1130='2. Metadata'!M$1,'2. Metadata'!M$6, IF(B1130='2. Metadata'!N$1,'2. Metadata'!N$6)))))))))))))) -> -117.75583 | E1130: N/A | F1130: N/A | G1130: =IF(ISBLANK(F1130)=TRUE()," ",'2. Metadata'!B$14) -> degrees Celsius | H1130: N/A
A1131: 44032.542 | B1131: Cambridge_Creek | C1131: =IF(ISBLANK(B1131)=TRUE()," ", IF(B1131='2. Metadata'!B$1,'2. Metadata'!B$5, IF(B1131='2. Metadata'!C$1,'2. Metadata'!C$5,IF(B1131='2. Metadata'!D$1,'2. Metadata'!D$5, IF(B1131='2. Metadata'!E$1,'2. Metadata'!E$5,IF( B1131='2. Metadata'!F$1,'2. Metadata'!F$5,IF(B1131='2. Metadata'!G$1,'2. Metadata'!G$5,IF(B1131='2. Metadata'!H$1,'2. Metadata'!H$5, IF(B1131='2. Metadata'!I$1,'2. Metadata'!I$5, IF(B1131='2. Metadata'!J$1,'2. Metadata'!J$5, IF(B1131='2. Metadata'!K$1,'2. Metadata'!K$5, IF(B1131='2. Metadata'!L$1,'2. Metadata'!L$5, IF(B1131='2. Metadata'!M$1,'2. Metadata'!M$5, IF(B1131='2. Metadata'!N$1,'2. Metadata'!N$5)))))))))))))) -> 49.083611 | D1131: =IF(ISBLANK(B1131)=TRUE()," ", IF(B1131='2. Metadata'!B$1,'2. Metadata'!B$6, IF(B1131='2. Metadata'!C$1,'2. Metadata'!C$6,IF(B1131='2. Metadata'!D$1,'2. Metadata'!D$6, IF(B1131='2. Metadata'!E$1,'2. Metadata'!E$6,IF( B1131='2. Metadata'!F$1,'2. Metadata'!F$6,IF(B1131='2. Metadata'!G$1,'2. Metadata'!G$6,IF(B1131='2. Metadata'!H$1,'2. Metadata'!H$6, IF(B1131='2. Metadata'!I$1,'2. Metadata'!I$6, IF(B1131='2. Metadata'!J$1,'2. Metadata'!J$6, IF(B1131='2. Metadata'!K$1,'2. Metadata'!K$6, IF(B1131='2. Metadata'!L$1,'2. Metadata'!L$6, IF(B1131='2. Metadata'!M$1,'2. Metadata'!M$6, IF(B1131='2. Metadata'!N$1,'2. Metadata'!N$6)))))))))))))) -> -117.75583 | E1131: N/A | F1131: N/A | G1131: =IF(ISBLANK(F1131)=TRUE()," ",'2. Metadata'!B$14) -> degrees Celsius | H1131: N/A
A1132: 44033.042 | B1132: Cambridge_Creek | C1132: =IF(ISBLANK(B1132)=TRUE()," ", IF(B1132='2. Metadata'!B$1,'2. Metadata'!B$5, IF(B1132='2. Metadata'!C$1,'2. Metadata'!C$5,IF(B1132='2. Metadata'!D$1,'2. Metadata'!D$5, IF(B1132='2. Metadata'!E$1,'2. Metadata'!E$5,IF( B1132='2. Metadata'!F$1,'2. Metadata'!F$5,IF(B1132='2. Metadata'!G$1,'2. Metadata'!G$5,IF(B1132='2. Metadata'!H$1,'2. Metadata'!H$5, IF(B1132='2. Metadata'!I$1,'2. Metadata'!I$5, IF(B1132='2. Metadata'!J$1,'2. Metadata'!J$5, IF(B1132='2. Metadata'!K$1,'2. Metadata'!K$5, IF(B1132='2. Metadata'!L$1,'2. Metadata'!L$5, IF(B1132='2. Metadata'!M$1,'2. Metadata'!M$5, IF(B1132='2. Metadata'!N$1,'2. Metadata'!N$5)))))))))))))) -> 49.083611 | D1132: =IF(ISBLANK(B1132)=TRUE()," ", IF(B1132='2. Metadata'!B$1,'2. Metadata'!B$6, IF(B1132='2. Metadata'!C$1,'2. Metadata'!C$6,IF(B1132='2. Metadata'!D$1,'2. Metadata'!D$6, IF(B1132='2. Metadata'!E$1,'2. Metadata'!E$6,IF( B1132='2. Metadata'!F$1,'2. Metadata'!F$6,IF(B1132='2. Metadata'!G$1,'2. Metadata'!G$6,IF(B1132='2. Metadata'!H$1,'2. Metadata'!H$6, IF(B1132='2. Metadata'!I$1,'2. Metadata'!I$6, IF(B1132='2. Metadata'!J$1,'2. Metadata'!J$6, IF(B1132='2. Metadata'!K$1,'2. Metadata'!K$6, IF(B1132='2. Metadata'!L$1,'2. Metadata'!L$6, IF(B1132='2. Metadata'!M$1,'2. Metadata'!M$6, IF(B1132='2. Metadata'!N$1,'2. Metadata'!N$6)))))))))))))) -> -117.75583 | E1132: N/A | F1132: N/A | G1132: =IF(ISBLANK(F1132)=TRUE()," ",'2. Metadata'!B$14) -> degrees Celsius | H1132: N/A
A1133: 44033.542 | B1133: Cambridge_Creek | C1133: =IF(ISBLANK(B1133)=TRUE()," ", IF(B1133='2. Metadata'!B$1,'2. Metadata'!B$5, IF(B1133='2. Metadata'!C$1,'2. Metadata'!C$5,IF(B1133='2. Metadata'!D$1,'2. Metadata'!D$5, IF(B1133='2. Metadata'!E$1,'2. Metadata'!E$5,IF( B1133='2. Metadata'!F$1,'2. Metadata'!F$5,IF(B1133='2. Metadata'!G$1,'2. Metadata'!G$5,IF(B1133='2. Metadata'!H$1,'2. Metadata'!H$5, IF(B1133='2. Metadata'!I$1,'2. Metadata'!I$5, IF(B1133='2. Metadata'!J$1,'2. Metadata'!J$5, IF(B1133='2. Metadata'!K$1,'2. Metadata'!K$5, IF(B1133='2. Metadata'!L$1,'2. Metadata'!L$5, IF(B1133='2. Metadata'!M$1,'2. Metadata'!M$5, IF(B1133='2. Metadata'!N$1,'2. Metadata'!N$5)))))))))))))) -> 49.083611 | D1133: =IF(ISBLANK(B1133)=TRUE()," ", IF(B1133='2. Metadata'!B$1,'2. Metadata'!B$6, IF(B1133='2. Metadata'!C$1,'2. Metadata'!C$6,IF(B1133='2. Metadata'!D$1,'2. Metadata'!D$6, IF(B1133='2. Metadata'!E$1,'2. Metadata'!E$6,IF( B1133='2. Metadata'!F$1,'2. Metadata'!F$6,IF(B1133='2. Metadata'!G$1,'2. Metadata'!G$6,IF(B1133='2. Metadata'!H$1,'2. Metadata'!H$6, IF(B1133='2. Metadata'!I$1,'2. Metadata'!I$6, IF(B1133='2. Metadata'!J$1,'2. Metadata'!J$6, IF(B1133='2. Metadata'!K$1,'2. Metadata'!K$6, IF(B1133='2. Metadata'!L$1,'2. Metadata'!L$6, IF(B1133='2. Metadata'!M$1,'2. Metadata'!M$6, IF(B1133='2. Metadata'!N$1,'2. Metadata'!N$6)))))))))))))) -> -117.75583 | E1133: N/A | F1133: N/A | G1133: =IF(ISBLANK(F1133)=TRUE()," ",'2. Metadata'!B$14) -> degrees Celsius | H1133: N/A
A1134: 44034.042 | B1134: Cambridge_Creek | C1134: =IF(ISBLANK(B1134)=TRUE()," ", IF(B1134='2. Metadata'!B$1,'2. Metadata'!B$5, IF(B1134='2. Metadata'!C$1,'2. Metadata'!C$5,IF(B1134='2. Metadata'!D$1,'2. Metadata'!D$5, IF(B1134='2. Metadata'!E$1,'2. Metadata'!E$5,IF( B1134='2. Metadata'!F$1,'2. Metadata'!F$5,IF(B1134='2. Metadata'!G$1,'2. Metadata'!G$5,IF(B1134='2. Metadata'!H$1,'2. Metadata'!H$5, IF(B1134='2. Metadata'!I$1,'2. Metadata'!I$5, IF(B1134='2. Metadata'!J$1,'2. Metadata'!J$5, IF(B1134='2. Metadata'!K$1,'2. Metadata'!K$5, IF(B1134='2. Metadata'!L$1,'2. Metadata'!L$5, IF(B1134='2. Metadata'!M$1,'2. Metadata'!M$5, IF(B1134='2. Metadata'!N$1,'2. Metadata'!N$5)))))))))))))) -> 49.083611 | D1134: =IF(ISBLANK(B1134)=TRUE()," ", IF(B1134='2. Metadata'!B$1,'2. Metadata'!B$6, IF(B1134='2. Metadata'!C$1,'2. Metadata'!C$6,IF(B1134='2. Metadata'!D$1,'2. Metadata'!D$6, IF(B1134='2. Metadata'!E$1,'2. Metadata'!E$6,IF( B1134='2. Metadata'!F$1,'2. Metadata'!F$6,IF(B1134='2. Metadata'!G$1,'2. Metadata'!G$6,IF(B1134='2. Metadata'!H$1,'2. Metadata'!H$6, IF(B1134='2. Metadata'!I$1,'2. Metadata'!I$6, IF(B1134='2. Metadata'!J$1,'2. Metadata'!J$6, IF(B1134='2. Metadata'!K$1,'2. Metadata'!K$6, IF(B1134='2. Metadata'!L$1,'2. Metadata'!L$6, IF(B1134='2. Metadata'!M$1,'2. Metadata'!M$6, IF(B1134='2. Metadata'!N$1,'2. Metadata'!N$6)))))))))))))) -> -117.75583 | E1134: N/A | F1134: N/A | G1134: =IF(ISBLANK(F1134)=TRUE()," ",'2. Metadata'!B$14) -> degrees Celsius | H1134: N/A
A1135: 44034.542 | B1135: Cambridge_Creek | C1135: =IF(ISBLANK(B1135)=TRUE()," ", IF(B1135='2. Metadata'!B$1,'2. Metadata'!B$5, IF(B1135='2. Metadata'!C$1,'2. Metadata'!C$5,IF(B1135='2. Metadata'!D$1,'2. Metadata'!D$5, IF(B1135='2. Metadata'!E$1,'2. Metadata'!E$5,IF( B1135='2. Metadata'!F$1,'2. Metadata'!F$5,IF(B1135='2. Metadata'!G$1,'2. Metadata'!G$5,IF(B1135='2. Metadata'!H$1,'2. Metadata'!H$5, IF(B1135='2. Metadata'!I$1,'2. Metadata'!I$5, IF(B1135='2. Metadata'!J$1,'2. Metadata'!J$5, IF(B1135='2. Metadata'!K$1,'2. Metadata'!K$5, IF(B1135='2. Metadata'!L$1,'2. Metadata'!L$5, IF(B1135='2. Metadata'!M$1,'2. Metadata'!M$5, IF(B1135='2. Metadata'!N$1,'2. Metadata'!N$5)))))))))))))) -> 49.083611 | D1135: =IF(ISBLANK(B1135)=TRUE()," ", IF(B1135='2. Metadata'!B$1,'2. Metadata'!B$6, IF(B1135='2. Metadata'!C$1,'2. Metadata'!C$6,IF(B1135='2. Metadata'!D$1,'2. Metadata'!D$6, IF(B1135='2. Metadata'!E$1,'2. Metadata'!E$6,IF( B1135='2. Metadata'!F$1,'2. Metadata'!F$6,IF(B1135='2. Metadata'!G$1,'2. Metadata'!G$6,IF(B1135='2. Metadata'!H$1,'2. Metadata'!H$6, IF(B1135='2. Metadata'!I$1,'2. Metadata'!I$6, IF(B1135='2. Metadata'!J$1,'2. Metadata'!J$6, IF(B1135='2. Metadata'!K$1,'2. Metadata'!K$6, IF(B1135='2. Metadata'!L$1,'2. Metadata'!L$6, IF(B1135='2. Metadata'!M$1,'2. Metadata'!M$6, IF(B1135='2. Metadata'!N$1,'2. Metadata'!N$6)))))))))))))) -> -117.75583 | E1135: N/A | F1135: N/A | G1135: =IF(ISBLANK(F1135)=TRUE()," ",'2. Metadata'!B$14) -> degrees Celsius | H1135: N/A
... A1188: 44061.042 | B1188: Cambridge_Creek | C1188: =IF(ISBLANK(B1188)=TRUE()," ", IF(B1188='2. Metadata'!B$1,'2. Metadata'!B$5, IF(B1188='2. Metadata'!C$1,'2. Metadata'!C$5,IF(B1188='2. Metadata'!D$1,'2. Metadata'!D$5, IF(B1188='2. Metadata'!E$1,'2. Metadata'!E$5,IF( B1188='2. Metadata'!F$1,'2. Metadata'!F$5,IF(B1188='2. Metadata'!G$1,'2. Metadata'!G$5,IF(B1188='2. Metadata'!H$1,'2. Metadata'!H$5, IF(B1188='2. Metadata'!I$1,'2. Metadata'!I$5, IF(B1188='2. Metadata'!J$1,'2. Metadata'!J$5, IF(B1188='2. Metadata'!K$1,'2. Metadata'!K$5, IF(B1188='2. Metadata'!L$1,'2. Metadata'!L$5, IF(B1188='2. Metadata'!M$1,'2. Metadata'!M$5, IF(B1188='2. Metadata'!N$1,'2. Metadata'!N$5)))))))))))))) -> 49.083611 | D1188: =IF(ISBLANK(B1188)=TRUE()," ", IF(B1188='2. Metadata'!B$1,'2. Metadata'!B$6, IF(B1188='2. Metadata'!C$1,'2. Metadata'!C$6,IF(B1188='2. Metadata'!D$1,'2. Metadata'!D$6, IF(B1188='2. Metadata'!E$1,'2. Metadata'!E$6,IF( B1188='2. Metadata'!F$1,'2. Metadata'!F$6,IF(B1188='2. Metadata'!G$1,'2. Metadata'!G$6,IF(B1188='2. Metadata'!H$1,'2. Metadata'!H$6, IF(B1188='2. Metadata'!I$1,'2. Metadata'!I$6, IF(B1188='2. Metadata'!J$1,'2. Metadata'!J$6, IF(B1188='2. Metadata'!K$1,'2. Metadata'!K$6, IF(B1188='2. Metadata'!L$1,'2. Metadata'!L$6, IF(B1188='2. Metadata'!M$1,'2. Metadata'!M$6, IF(B1188='2. Metadata'!N$1,'2. Metadata'!N$6)))))))))))))) -> -117.75583 | E1188: N/A | F1188: N/A | G1188: =IF(ISBLANK(F1188)=TRUE()," ",'2. Metadata'!B$14) -> degrees Celsius | H1188: N/A
A1189: 44062.792 | B1189: Cambridge_Creek | C1189: =IF(ISBLANK(B1189)=TRUE()," ", IF(B1189='2. Metadata'!B$1,'2. Metadata'!B$5, IF(B1189='2. Metadata'!C$1,'2. Metadata'!C$5,IF(B1189='2. Metadata'!D$1,'2. Metadata'!D$5, IF(B1189='2. Metadata'!E$1,'2. Metadata'!E$5,IF( B1189='2. Metadata'!F$1,'2. Metadata'!F$5,IF(B1189='2. Metadata'!G$1,'2. Metadata'!G$5,IF(B1189='2. Metadata'!H$1,'2. Metadata'!H$5, IF(B1189='2. Metadata'!I$1,'2. Metadata'!I$5, IF(B1189='2. Metadata'!J$1,'2. Metadata'!J$5, IF(B1189='2. Metadata'!K$1,'2. Metadata'!K$5, IF(B1189='2. Metadata'!L$1,'2. Metadata'!L$5, IF(B1189='2. Metadata'!M$1,'2. Metadata'!M$5, IF(B1189='2. Metadata'!N$1,'2. Metadata'!N$5)))))))))))))) -> 49.083611 | D1189: =IF(ISBLANK(B1189)=TRUE()," ", IF(B1189='2. Metadata'!B$1,'2. Metadata'!B$6, IF(B1189='2. Metadata'!C$1,'2. Metadata'!C$6,IF(B1189='2. Metadata'!D$1,'2. Metadata'!D$6, IF(B1189='2. Metadata'!E$1,'2. Metadata'!E$6,IF( B1189='2. Metadata'!F$1,'2. Metadata'!F$6,IF(B1189='2. Metadata'!G$1,'2. Metadata'!G$6,IF(B1189='2. Metadata'!H$1,'2. Metadata'!H$6, IF(B1189='2. Metadata'!I$1,'2. Metadata'!I$6, IF(B1189='2. Metadata'!J$1,'2. Metadata'!J$6, IF(B1189='2. Metadata'!K$1,'2. Metadata'!K$6, IF(B1189='2. Metadata'!L$1,'2. Metadata'!L$6, IF(B1189='2. Metadata'!M$1,'2. Metadata'!M$6, IF(B1189='2. Metadata'!N$1,'2. Metadata'!N$6)))))))))))))) -> -117.75583 | E1189: logger re-deployed | F1189: 19.516905 | G1189: =IF(ISBLANK(F1189)=TRUE()," ",'2. Metadata'!B$14) -> degrees Celsius | H1189: N/A
A1190: 44063.292 | B1190: Cambridge_Creek | C1190: =IF(ISBLANK(B1190)=TRUE()," ", IF(B1190='2. Metadata'!B$1,'2. Metadata'!B$5, IF(B1190='2. Metadata'!C$1,'2. Metadata'!C$5,IF(B1190='2. Metadata'!D$1,'2. Metadata'!D$5, IF(B1190='2. Metadata'!E$1,'2. Metadata'!E$5,IF( B1190='2. Metadata'!F$1,'2. Metadata'!F$5,IF(B1190='2. Metadata'!G$1,'2. Metadata'!G$5,IF(B1190='2. Metadata'!H$1,'2. Metadata'!H$5, IF(B1190='2. Metadata'!I$1,'2. Metadata'!I$5, IF(B1190='2. Metadata'!J$1,'2. Metadata'!J$5, IF(B1190='2. Metadata'!K$1,'2. Metadata'!K$5, IF(B1190='2. Metadata'!L$1,'2. Metadata'!L$5, IF(B1190='2. Metadata'!M$1,'2. Metadata'!M$5, IF(B1190='2. Metadata'!N$1,'2. Metadata'!N$5)))))))))))))) -> 49.083611 | D1190: =IF(ISBLANK(B1190)=TRUE()," ", IF(B1190='2. Metadata'!B$1,'2. Metadata'!B$6, IF(B1190='2. Metadata'!C$1,'2. Metadata'!C$6,IF(B1190='2. Metadata'!D$1,'2. Metadata'!D$6, IF(B1190='2. Metadata'!E$1,'2. Metadata'!E$6,IF( B1190='2. Metadata'!F$1,'2. Metadata'!F$6,IF(B1190='2. Metadata'!G$1,'2. Metadata'!G$6,IF(B1190='2. Metadata'!H$1,'2. Metadata'!H$6, IF(B1190='2. Metadata'!I$1,'2. Metadata'!I$6, IF(B1190='2. Metadata'!J$1,'2. Metadata'!J$6, IF(B1190='2. Metadata'!K$1,'2. Metadata'!K$6, IF(B1190='2. Metadata'!L$1,'2. Metadata'!L$6, IF(B1190='2. Metadata'!M$1,'2. Metadata'!M$6, IF(B1190='2. Metadata'!N$1,'2. Metadata'!N$6)))))))))))))) -> -117.75583 | E1190: N/A | F1190: 15.956172 | G1190: =IF(ISBLANK(F1190)=TRUE()," ",'2. Metadata'!B$14) -> degrees Celsius | H1190: N/A
A1191: 44063.792 | B1191: Cambridge_Creek | C1191: =IF(ISBLANK(B1191)=TRUE()," ", IF(B1191='2. Metadata'!B$1,'2. Metadata'!B$5, IF(B1191='2. Metadata'!C$1,'2. Metadata'!C$5,IF(B1191='2. Metadata'!D$1,'2. Metadata'!D$5, IF(B1191='2. Metadata'!E$1,'2. Metadata'!E$5,IF( B1191='2. Metadata'!F$1,'2. Metadata'!F$5,IF(B1191='2. Metadata'!G$1,'2. Metadata'!G$5,IF(B1191='2. Metadata'!H$1,'2. Metadata'!H$5, IF(B1191='2. Metadata'!I$1,'2. Metadata'!I$5, IF(B1191='2. Metadata'!J$1,'2. Metadata'!J$5, IF(B1191='2. Metadata'!K$1,'2. Metadata'!K$5, IF(B1191='2. Metadata'!L$1,'2. Metadata'!L$5, IF(B1191='2. Metadata'!M$1,'2. Metadata'!M$5, IF(B1191='2. Metadata'!N$1,'2. Metadata'!N$5)))))))))))))) -> 49.083611 | D1191: =IF(ISBLANK(B1191)=TRUE()," ", IF(B1191='2. Metadata'!B$1,'2. Metadata'!B$6, IF(B1191='2. Metadata'!C$1,'2. Metadata'!C$6,IF(B1191='2. Metadata'!D$1,'2. Metadata'!D$6, IF(B1191='2. Metadata'!E$1,'2. Metadata'!E$6,IF( B1191='2. Metadata'!F$1,'2. Metadata'!F$6,IF(B1191='2. Metadata'!G$1,'2. Metadata'!G$6,IF(B1191='2. Metadata'!H$1,'2. Metadata'!H$6, IF(B1191='2. Metadata'!I$1,'2. Metadata'!I$6, IF(B1191='2. Metadata'!J$1,'2. Metadata'!J$6, IF(B1191='2. Metadata'!K$1,'2. Metadata'!K$6, IF(B1191='2. Metadata'!L$1,'2. Metadata'!L$6, IF(B1191='2. Metadata'!M$1,'2. Metadata'!M$6, IF(B1191='2. Metadata'!N$1,'2. Metadata'!N$6)))))))))))))) -> -117.75583 | E1191: N/A | F1191: 18.380043 | G1191: =IF(ISBLANK(F1191)=TRUE()," ",'2. Metadata'!B$14) -> degrees Celsius | H1191: N/A
A1192: 44064.292 | B1192: Cambridge_Creek | C1192: =IF(ISBLANK(B1192)=TRUE()," ", IF(B1192='2. Metadata'!B$1,'2. Metadata'!B$5, IF(B1192='2. Metadata'!C$1,'2. Metadata'!C$5,IF(B1192='2. Metadata'!D$1,'2. Metadata'!D$5, IF(B1192='2. Metadata'!E$1,'2. Metadata'!E$5,IF( B1192='2. Metadata'!F$1,'2. Metadata'!F$5,IF(B1192='2. Metadata'!G$1,'2. Metadata'!G$5,IF(B1192='2. Metadata'!H$1,'2. Metadata'!H$5, IF(B1192='2. Metadata'!I$1,'2. Metadata'!I$5, IF(B1192='2. Metadata'!J$1,'2. Metadata'!J$5, IF(B1192='2. Metadata'!K$1,'2. Metadata'!K$5, IF(B1192='2. Metadata'!L$1,'2. Metadata'!L$5, IF(B1192='2. Metadata'!M$1,'2. Metadata'!M$5, IF(B1192='2. Metadata'!N$1,'2. Metadata'!N$5)))))))))))))) -> 49.083611 | D1192: =IF(ISBLANK(B1192)=TRUE()," ", IF(B1192='2. Metadata'!B$1,'2. Metadata'!B$6, IF(B1192='2. Metadata'!C$1,'2. Metadata'!C$6,IF(B1192='2. Metadata'!D$1,'2. Metadata'!D$6, IF(B1192='2. Metadata'!E$1,'2. Metadata'!E$6,IF( B1192='2. Metadata'!F$1,'2. Metadata'!F$6,IF(B1192='2. Metadata'!G$1,'2. Metadata'!G$6,IF(B1192='2. Metadata'!H$1,'2. Metadata'!H$6, IF(B1192='2. Metadata'!I$1,'2. Metadata'!I$6, IF(B1192='2. Metadata'!J$1,'2. Metadata'!J$6, IF(B1192='2. Metadata'!K$1,'2. Metadata'!K$6, IF(B1192='2. Metadata'!L$1,'2. Metadata'!L$6, IF(B1192='2. Metadata'!M$1,'2. Metadata'!M$6, IF(B1192='2. Metadata'!N$1,'2. Metadata'!N$6)))))))))))))) -> -117.75583 | E1192: N/A | F1192: 13.736076 | G1192: =IF(ISBLANK(F1192)=TRUE()," ",'2. Metadata'!B$14) -> degrees Celsius | H1192: N/A
A1193: 44064.792 | B1193: Cambridge_Creek | C1193: =IF(ISBLANK(B1193)=TRUE()," ", IF(B1193='2. Metadata'!B$1,'2. Metadata'!B$5, IF(B1193='2. Metadata'!C$1,'2. Metadata'!C$5,IF(B1193='2. Metadata'!D$1,'2. Metadata'!D$5, IF(B1193='2. Metadata'!E$1,'2. Metadata'!E$5,IF( B1193='2. Metadata'!F$1,'2. Metadata'!F$5,IF(B1193='2. Metadata'!G$1,'2. Metadata'!G$5,IF(B1193='2. Metadata'!H$1,'2. Metadata'!H$5, IF(B1193='2. Metadata'!I$1,'2. Metadata'!I$5, IF(B1193='2. Metadata'!J$1,'2. Metadata'!J$5, IF(B1193='2. Metadata'!K$1,'2. Metadata'!K$5, IF(B1193='2. Metadata'!L$1,'2. Metadata'!L$5, IF(B1193='2. Metadata'!M$1,'2. Metadata'!M$5, IF(B1193='2. Metadata'!N$1,'2. Metadata'!N$5)))))))))))))) -> 49.083611 | D1193: =IF(ISBLANK(B1193)=TRUE()," ", IF(B1193='2. Metadata'!B$1,'2. Metadata'!B$6, IF(B1193='2. Metadata'!C$1,'2. Metadata'!C$6,IF(B1193='2. Metadata'!D$1,'2. Metadata'!D$6, IF(B1193='2. Metadata'!E$1,'2. Metadata'!E$6,IF( B1193='2. Metadata'!F$1,'2. Metadata'!F$6,IF(B1193='2. Metadata'!G$1,'2. Metadata'!G$6,IF(B1193='2. Metadata'!H$1,'2. Metadata'!H$6, IF(B1193='2. Metadata'!I$1,'2. Metadata'!I$6, IF(B1193='2. Metadata'!J$1,'2. Metadata'!J$6, IF(B1193='2. Metadata'!K$1,'2. Metadata'!K$6, IF(B1193='2. Metadata'!L$1,'2. Metadata'!L$6, IF(B1193='2. Metadata'!M$1,'2. Metadata'!M$6, IF(B1193='2. Metadata'!N$1,'2. Metadata'!N$6)))))))))))))) -> -117.75583 | E1193: N/A | F1193: 18.133368 | G1193: =IF(ISBLANK(F1193)=TRUE()," ",'2. Metadata'!B$14) -> degrees Celsius | H1193: N/A
A1194: 44065.292 | B1194: Cambridge_Creek | C1194: =IF(ISBLANK(B1194)=TRUE()," ", IF(B1194='2. Metadata'!B$1,'2. Metadata'!B$5, IF(B1194='2. Metadata'!C$1,'2. Metadata'!C$5,IF(B1194='2. Metadata'!D$1,'2. Metadata'!D$5, IF(B1194='2. Metadata'!E$1,'2. Metadata'!E$5,IF( B1194='2. Metadata'!F$1,'2. Metadata'!F$5,IF(B1194='2. Metadata'!G$1,'2. Metadata'!G$5,IF(B1194='2. Metadata'!H$1,'2. Metadata'!H$5, IF(B1194='2. Metadata'!I$1,'2. Metadata'!I$5, IF(B1194='2. Metadata'!J$1,'2. Metadata'!J$5, IF(B1194='2. Metadata'!K$1,'2. Metadata'!K$5, IF(B1194='2. Metadata'!L$1,'2. Metadata'!L$5, IF(B1194='2. Metadata'!M$1,'2. Metadata'!M$5, IF(B1194='2. Metadata'!N$1,'2. Metadata'!N$5)))))))))))))) -> 49.083611 | D1194: =IF(ISBLANK(B1194)=TRUE()," ", IF(B1194='2. Metadata'!B$1,'2. Metadata'!B$6, IF(B1194='2. Metadata'!C$1,'2. Metadata'!C$6,IF(B1194='2. Metadata'!D$1,'2. Metadata'!D$6, IF(B1194='2. Metadata'!E$1,'2. Metadata'!E$6,IF( B1194='2. Metadata'!F$1,'2. Metadata'!F$6,IF(B1194='2. Metadata'!G$1,'2. Metadata'!G$6,IF(B1194='2. Metadata'!H$1,'2. Metadata'!H$6, IF(B1194='2. Metadata'!I$1,'2. Metadata'!I$6, IF(B1194='2. Metadata'!J$1,'2. Metadata'!J$6, IF(B1194='2. Metadata'!K$1,'2. Metadata'!K$6, IF(B1194='2. Metadata'!L$1,'2. Metadata'!L$6, IF(B1194='2. Metadata'!M$1,'2. Metadata'!M$6, IF(B1194='2. Metadata'!N$1,'2. Metadata'!N$6)))))))))))))) -> -117.75583 | E1194: N/A | F1194: 13.135471 | G1194: =IF(ISBLANK(F1194)=TRUE()," ",'2. Metadata'!B$14) -> degrees Celsius | H1194: N/A
A1195: 44065.792 | B1195: Cambridge_Creek | C1195: =IF(ISBLANK(B1195)=TRUE()," ", IF(B1195='2. Metadata'!B$1,'2. Metadata'!B$5, IF(B1195='2. Metadata'!C$1,'2. Metadata'!C$5,IF(B1195='2. Metadata'!D$1,'2. Metadata'!D$5, IF(B1195='2. Metadata'!E$1,'2. Metadata'!E$5,IF( B1195='2. Metadata'!F$1,'2. Metadata'!F$5,IF(B1195='2. Metadata'!G$1,'2. Metadata'!G$5,IF(B1195='2. Metadata'!H$1,'2. Metadata'!H$5, IF(B1195='2. Metadata'!I$1,'2. Metadata'!I$5, IF(B1195='2. Metadata'!J$1,'2. Metadata'!J$5, IF(B1195='2. Metadata'!K$1,'2. Metadata'!K$5, IF(B1195='2. Metadata'!L$1,'2. Metadata'!L$5, IF(B1195='2. Metadata'!M$1,'2. Metadata'!M$5, IF(B1195='2. Metadata'!N$1,'2. Metadata'!N$5)))))))))))))) -> 49.083611 | D1195: =IF(ISBLANK(B1195)=TRUE()," ", IF(B1195='2. Metadata'!B$1,'2. Metadata'!B$6, IF(B1195='2. Metadata'!C$1,'2. Metadata'!C$6,IF(B1195='2. Metadata'!D$1,'2. Metadata'!D$6, IF(B1195='2. Metadata'!E$1,'2. Metadata'!E$6,IF( B1195='2. Metadata'!F$1,'2. Metadata'!F$6,IF(B1195='2. Metadata'!G$1,'2. Metadata'!G$6,IF(B1195='2. Metadata'!H$1,'2. Metadata'!H$6, IF(B1195='2. Metadata'!I$1,'2. Metadata'!I$6, IF(B1195='2. Metadata'!J$1,'2. Metadata'!J$6, IF(B1195='2. Metadata'!K$1,'2. Metadata'!K$6, IF(B1195='2. Metadata'!L$1,'2. Metadata'!L$6, IF(B1195='2. Metadata'!M$1,'2. Metadata'!M$6, IF(B1195='2. Metadata'!N$1,'2. Metadata'!N$6)))))))))))))) -> -117.75583 | E1195: N/A | F1195: 17.393335 | G1195: =IF(ISBLANK(F1195)=TRUE()," ",'2. Metadata'!B$14) -> degrees Celsius | H1195: N/A
A1196: 44066.292 | B1196: Cambridge_Creek | C1196: =IF(ISBLANK(B1196)=TRUE()," ", IF(B1196='2. Metadata'!B$1,'2. Metadata'!B$5, IF(B1196='2. Metadata'!C$1,'2. Metadata'!C$5,IF(B1196='2. Metadata'!D$1,'2. Metadata'!D$5, IF(B1196='2. Metadata'!E$1,'2. Metadata'!E$5,IF( B1196='2. Metadata'!F$1,'2. Metadata'!F$5,IF(B1196='2. Metadata'!G$1,'2. Metadata'!G$5,IF(B1196='2. Metadata'!H$1,'2. Metadata'!H$5, IF(B1196='2. Metadata'!I$1,'2. Metadata'!I$5, IF(B1196='2. Metadata'!J$1,'2. Metadata'!J$5, IF(B1196='2. Metadata'!K$1,'2. Metadata'!K$5, IF(B1196='2. Metadata'!L$1,'2. Metadata'!L$5, IF(B1196='2. Metadata'!M$1,'2. Metadata'!M$5, IF(B1196='2. Metadata'!N$1,'2. Metadata'!N$5)))))))))))))) -> 49.083611 | D1196: =IF(ISBLANK(B1196)=TRUE()," ", IF(B1196='2. Metadata'!B$1,'2. Metadata'!B$6, IF(B1196='2. Metadata'!C$1,'2. Metadata'!C$6,IF(B1196='2. Metadata'!D$1,'2. Metadata'!D$6, IF(B1196='2. Metadata'!E$1,'2. Metadata'!E$6,IF( B1196='2. Metadata'!F$1,'2. Metadata'!F$6,IF(B1196='2. Metadata'!G$1,'2. Metadata'!G$6,IF(B1196='2. Metadata'!H$1,'2. Metadata'!H$6, IF(B1196='2. Metadata'!I$1,'2. Metadata'!I$6, IF(B1196='2. Metadata'!J$1,'2. Metadata'!J$6, IF(B1196='2. Metadata'!K$1,'2. Metadata'!K$6, IF(B1196='2. Metadata'!L$1,'2. Metadata'!L$6, IF(B1196='2. Metadata'!M$1,'2. Metadata'!M$6, IF(B1196='2. Metadata'!N$1,'2. Metadata'!N$6)))))))))))))) -> -117.75583 | E1196: N/A | F1196: 10.153894 | G1196: =IF(ISBLANK(F1196)=TRUE()," ",'2. Metadata'!B$14) -> degrees Celsius | H1196: N/A
A1197: 44066.792 | B1197: Cambridge_Creek | C1197: =IF(ISBLANK(B1197)=TRUE()," ", IF(B1197='2. Metadata'!B$1,'2. Metadata'!B$5, IF(B1197='2. Metadata'!C$1,'2. Metadata'!C$5,IF(B1197='2. Metadata'!D$1,'2. Metadata'!D$5, IF(B1197='2. Metadata'!E$1,'2. Metadata'!E$5,IF( B1197='2. Metadata'!F$1,'2. Metadata'!F$5,IF(B1197='2. Metadata'!G$1,'2. Metadata'!G$5,IF(B1197='2. Metadata'!H$1,'2. Metadata'!H$5, IF(B1197='2. Metadata'!I$1,'2. Metadata'!I$5, IF(B1197='2. Metadata'!J$1,'2. Metadata'!J$5, IF(B1197='2. Metadata'!K$1,'2. Metadata'!K$5, IF(B1197='2. Metadata'!L$1,'2. Metadata'!L$5, IF(B1197='2. Metadata'!M$1,'2. Metadata'!M$5, IF(B1197='2. Metadata'!N$1,'2. Metadata'!N$5)))))))))))))) -> 49.083611 | D1197: =IF(ISBLANK(B1197)=TRUE()," ", IF(B1197='2. Metadata'!B$1,'2. Metadata'!B$6, IF(B1197='2. Metadata'!C$1,'2. Metadata'!C$6,IF(B1197='2. Metadata'!D$1,'2. Metadata'!D$6, IF(B1197='2. Metadata'!E$1,'2. Metadata'!E$6,IF( B1197='2. Metadata'!F$1,'2. Metadata'!F$6,IF(B1197='2. Metadata'!G$1,'2. Metadata'!G$6,IF(B1197='2. Metadata'!H$1,'2. Metadata'!H$6, IF(B1197='2. Metadata'!I$1,'2. Metadata'!I$6, IF(B1197='2. Metadata'!J$1,'2. Metadata'!J$6, IF(B1197='2. Metadata'!K$1,'2. Metadata'!K$6, IF(B1197='2. Metadata'!L$1,'2. Metadata'!L$6, IF(B1197='2. Metadata'!M$1,'2. Metadata'!M$6, IF(B1197='2. Metadata'!N$1,'2. Metadata'!N$6)))))))))))))) -> -117.75583 | E1197: N/A | F1197: 16.653303 | G1197: =IF(ISBLANK(F1197)=TRUE()," ",'2. Metadata'!B$14) -> degrees Celsius | H1197: N/A
A1198: 44067.292 | B1198: Cambridge_Creek | C1198: =IF(ISBLANK(B1198)=TRUE()," ", IF(B1198='2. Metadata'!B$1,'2. Metadata'!B$5, IF(B1198='2. Metadata'!C$1,'2. Metadata'!C$5,IF(B1198='2. Metadata'!D$1,'2. Metadata'!D$5, IF(B1198='2. Metadata'!E$1,'2. Metadata'!E$5,IF( B1198='2. Metadata'!F$1,'2. Metadata'!F$5,IF(B1198='2. Metadata'!G$1,'2. Metadata'!G$5,IF(B1198='2. Metadata'!H$1,'2. Metadata'!H$5, IF(B1198='2. Metadata'!I$1,'2. Metadata'!I$5, IF(B1198='2. Metadata'!J$1,'2. Metadata'!J$5, IF(B1198='2. Metadata'!K$1,'2. Metadata'!K$5, IF(B1198='2. Metadata'!L$1,'2. Metadata'!L$5, IF(B1198='2. Metadata'!M$1,'2. Metadata'!M$5, IF(B1198='2. Metadata'!N$1,'2. Metadata'!N$5)))))))))))))) -> 49.083611 | D1198: =IF(ISBLANK(B1198)=TRUE()," ", IF(B1198='2. Metadata'!B$1,'2. Metadata'!B$6, IF(B1198='2. Metadata'!C$1,'2. Metadata'!C$6,IF(B1198='2. Metadata'!D$1,'2. Metadata'!D$6, IF(B1198='2. Metadata'!E$1,'2. Metadata'!E$6,IF( B1198='2. Metadata'!F$1,'2. Metadata'!F$6,IF(B1198='2. Metadata'!G$1,'2. Metadata'!G$6,IF(B1198='2. Metadata'!H$1,'2. Metadata'!H$6, IF(B1198='2. Metadata'!I$1,'2. Metadata'!I$6, IF(B1198='2. Metadata'!J$1,'2. Metadata'!J$6, IF(B1198='2. Metadata'!K$1,'2. Metadata'!K$6, IF(B1198='2. Metadata'!L$1,'2. Metadata'!L$6, IF(B1198='2. Metadata'!M$1,'2. Metadata'!M$6, IF(B1198='2. Metadata'!N$1,'2. Metadata'!N$6)))))))))))))) -> -117.75583 | E1198: N/A | F1198: 10.218245 | G1198: =IF(ISBLANK(F1198)=TRUE()," ",'2. Metadata'!B$14) -> degrees Celsius | H1198: N/A
A1199: 44067.792 | B1199: Cambridge_Creek | C1199: =IF(ISBLANK(B1199)=TRUE()," ", IF(B1199='2. Metadata'!B$1,'2. Metadata'!B$5, IF(B1199='2. Metadata'!C$1,'2. Metadata'!C$5,IF(B1199='2. Metadata'!D$1,'2. Metadata'!D$5, IF(B1199='2. Metadata'!E$1,'2. Metadata'!E$5,IF( B1199='2. Metadata'!F$1,'2. Metadata'!F$5,IF(B1199='2. Metadata'!G$1,'2. Metadata'!G$5,IF(B1199='2. Metadata'!H$1,'2. Metadata'!H$5, IF(B1199='2. Metadata'!I$1,'2. Metadata'!I$5, IF(B1199='2. Metadata'!J$1,'2. Metadata'!J$5, IF(B1199='2. Metadata'!K$1,'2. Metadata'!K$5, IF(B1199='2. Metadata'!L$1,'2. Metadata'!L$5, IF(B1199='2. Metadata'!M$1,'2. Metadata'!M$5, IF(B1199='2. Metadata'!N$1,'2. Metadata'!N$5)))))))))))))) -> 49.083611 | D1199: =IF(ISBLANK(B1199)=TRUE()," ", IF(B1199='2. Metadata'!B$1,'2. Metadata'!B$6, IF(B1199='2. Metadata'!C$1,'2. Metadata'!C$6,IF(B1199='2. Metadata'!D$1,'2. Metadata'!D$6, IF(B1199='2. Metadata'!E$1,'2. Metadata'!E$6,IF( B1199='2. Metadata'!F$1,'2. Metadata'!F$6,IF(B1199='2. Metadata'!G$1,'2. Metadata'!G$6,IF(B1199='2. Metadata'!H$1,'2. Metadata'!H$6, IF(B1199='2. Metadata'!I$1,'2. Metadata'!I$6, IF(B1199='2. Metadata'!J$1,'2. Metadata'!J$6, IF(B1199='2. Metadata'!K$1,'2. Metadata'!K$6, IF(B1199='2. Metadata'!L$1,'2. Metadata'!L$6, IF(B1199='2. Metadata'!M$1,'2. Metadata'!M$6, IF(B1199='2. Metadata'!N$1,'2. Metadata'!N$6)))))))))))))) -> -117.75583 | E1199: N/A | F1199: 16.621128 | G1199: =IF(ISBLANK(F1199)=TRUE()," ",'2. Metadata'!B$14) -> degrees Celsius | H1199: N/A
A1200: 44068.292 | B1200: Cambridge_Creek | C1200: =IF(ISBLANK(B1200)=TRUE()," ", IF(B1200='2. Metadata'!B$1,'2. Metadata'!B$5, IF(B1200='2. Metadata'!C$1,'2. Metadata'!C$5,IF(B1200='2. Metadata'!D$1,'2. Metadata'!D$5, IF(B1200='2. Metadata'!E$1,'2. Metadata'!E$5,IF( B1200='2. Metadata'!F$1,'2. Metadata'!F$5,IF(B1200='2. Metadata'!G$1,'2. Metadata'!G$5,IF(B1200='2. Metadata'!H$1,'2. Metadata'!H$5, IF(B1200='2. Metadata'!I$1,'2. Metadata'!I$5, IF(B1200='2. Metadata'!J$1,'2. Metadata'!J$5, IF(B1200='2. Metadata'!K$1,'2. Metadata'!K$5, IF(B1200='2. Metadata'!L$1,'2. Metadata'!L$5, IF(B1200='2. Metadata'!M$1,'2. Metadata'!M$5, IF(B1200='2. Metadata'!N$1,'2. Metadata'!N$5)))))))))))))) -> 49.083611 | D1200: =IF(ISBLANK(B1200)=TRUE()," ", IF(B1200='2. Metadata'!B$1,'2. Metadata'!B$6, IF(B1200='2. Metadata'!C$1,'2. Metadata'!C$6,IF(B1200='2. Metadata'!D$1,'2. Metadata'!D$6, IF(B1200='2. Metadata'!E$1,'2. Metadata'!E$6,IF( B1200='2. Metadata'!F$1,'2. Metadata'!F$6,IF(B1200='2. Metadata'!G$1,'2. Metadata'!G$6,IF(B1200='2. Metadata'!H$1,'2. Metadata'!H$6, IF(B1200='2. Metadata'!I$1,'2. Metadata'!I$6, IF(B1200='2. Metadata'!J$1,'2. Metadata'!J$6, IF(B1200='2. Metadata'!K$1,'2. Metadata'!K$6, IF(B1200='2. Metadata'!L$1,'2. Metadata'!L$6, IF(B1200='2. Metadata'!M$1,'2. Metadata'!M$6, IF(B1200='2. Metadata'!N$1,'2. Metadata'!N$6)))))))))))))) -> -117.75583 | E1200: N/A | F1200: 11.97716 | G1200: =IF(ISBLANK(F1200)=TRUE()," ",'2. Metadata'!B$14) -> degrees Celsius | H1200: N/A
... A2761: 44848.083 | B2761: Cambridge_Creek | C2761: =IF(ISBLANK(B2761)=TRUE()," ", IF(B2761='2. Metadata'!B$1,'2. Metadata'!B$5, IF(B2761='2. Metadata'!C$1,'2. Metadata'!C$5,IF(B2761='2. Metadata'!D$1,'2. Metadata'!D$5, IF(B2761='2. Metadata'!E$1,'2. Metadata'!E$5,IF( B2761='2. Metadata'!F$1,'2. Metadata'!F$5,IF(B2761='2. Metadata'!G$1,'2. Metadata'!G$5,IF(B2761='2. Metadata'!H$1,'2. Metadata'!H$5, IF(B2761='2. Metadata'!I$1,'2. Metadata'!I$5, IF(B2761='2. Metadata'!J$1,'2. Metadata'!J$5, IF(B2761='2. Metadata'!K$1,'2. Metadata'!K$5, IF(B2761='2. Metadata'!L$1,'2. Metadata'!L$5, IF(B2761='2. Metadata'!M$1,'2. Metadata'!M$5, IF(B2761='2. Metadata'!N$1,'2. Metadata'!N$5)))))))))))))) -> 49.083611 | D2761: =IF(ISBLANK(B2761)=TRUE()," ", IF(B2761='2. Metadata'!B$1,'2. Metadata'!B$6, IF(B2761='2. Metadata'!C$1,'2. Metadata'!C$6,IF(B2761='2. Metadata'!D$1,'2. Metadata'!D$6, IF(B2761='2. Metadata'!E$1,'2. Metadata'!E$6,IF( B2761='2. Metadata'!F$1,'2. Metadata'!F$6,IF(B2761='2. Metadata'!G$1,'2. Metadata'!G$6,IF(B2761='2. Metadata'!H$1,'2. Metadata'!H$6, IF(B2761='2. Metadata'!I$1,'2. Metadata'!I$6, IF(B2761='2. Metadata'!J$1,'2. Metadata'!J$6, IF(B2761='2. Metadata'!K$1,'2. Metadata'!K$6, IF(B2761='2. Metadata'!L$1,'2. Metadata'!L$6, IF(B2761='2. Metadata'!M$1,'2. Metadata'!M$6, IF(B2761='2. Metadata'!N$1,'2. Metadata'!N$6)))))))))))))) -> -117.75583 | E2761: N/A | F2761: 7.0007148 | G2761: =IF(ISBLANK(F2761)=TRUE()," ",'2. Metadata'!B$14) -> degrees Celsius | H2761: N/A

Sheet 2. Metadata
A1: Site ID | B1: Cambridge_Creek
A2: Location/Site Name | B2: Cambridge Creek
A3: Waterbody Type | B3: Streams
A4: Waterbody | B4: Cambridge Creek
A5: Site Latitude (decimal degrees) | B5: 49.083611
A6: Site Longitude (decimal degrees) | B6: -117.75583
A7: Coordinate System | B7: WGS84
A8: Site Elevation (masl) | B8: 800
A9: Measurement Interval | B9: Twelve Hours
A10: Site Notes | B10: N/A
A11: Site Photos in Dataset | B11: Yes
A12: Photo Resource Name | B12: Cambridge Creek Temperature Photos
A13: Parameter 1 | B13: water_temperature
A14: Unit of Measurement | B14: degrees Celsius
A15: Instrument Type | B15: Data Logger
A16: Instrument Manufacturer | B16: HOBO
A17: Instrument Model | B17: MX2203
A18: Serial Number | B18: 20413527
A19: Range | B19: -20° to 50°C (-4° to 122°F) in water
A20: Accuracy | B20: ±0.2°C
A21: Resolution | B21: n/a
A22: Calibration Notes | B22: Factory calibrated
A23: Time Zone | B23: GMT-7
A24: Notes on Methods | B24: Tidbit fastened to 10 lb plastic coated round dumbbell with cinch ties and tethered by cord to nearest tree. Deployed in deep hole of creek bottom.

Sheet 2.b Metadata Definitions
A1: Metadata Definitions
B2: Definition | C2: Format | D2: Example
A3: Site ID | B3: Unique name/code used to identify the monitoring site (assigned by monitoring organization). | C3: Text | D3: SAH_01
A4: Waterbody Type | B4: The type of waterbody the measurements were taken from | C4: Text | D4: Stream
A5: Waterbody | B5: Name of the waterbody where monitoring took place. | C5: Text | D5: Slocan Lake
A6: Location/Site Name | B6: Geographically descriptive name of the monitoring site. | C6: Text | D6: Slocan River at Passmore Bridge
A7: Location Latitude | B7: Latitude. Decimal degrees. | C7: Decimal degrees | D7: 51.048614
A8: Location Longitude | B8: Longitude. Decimal degrees. | C8: Decimal degrees | D8: -114.07082
A9: Location Coordinate System | B9: The datum that your latitude and longitude coordinates are based upon. | C9: Pick From List | D9: WGS84
A10: Elevation | B10: The elevation of your monitoring location (metres above sea level) | C10: Number | D10: 800
A11: Measurement Interval | B11: The timescale that measurements are being taken, ex. hourly, every 8 hours, weekly, monthly | C11: Text | D11: Hourly
A12: Site Photos in Dataset | B12: Whether site photos will be included as a separate zipfile as part of the dataset this resource contains | C12: Text | D12: Yes
A13: Photo Resource Name | B13: Name of the Resource that will contain photos relevant to this resource/site | C13: Text | D13: Monitoring Station Photos from Some Creek
A14: Parameter | B14: Type of measurement being taken. Must be expressed without spaces or symbols, lower case, use underscores as needed. | C14: Pick From List | D14: Temperature
